BEGIN:VCALENDAR
VERSION:2.0
PRODID:-//ChamberMaster//Event Calendar 2.0//EN
METHOD:PUBLISH
X-PUBLISHED-TTL:P3D
REFRESH-INTERVAL:P3D
CALSCALE:GREGORIAN
BEGIN:VEVENT
DTSTART:20241108T160000Z
DTEND:20241108T200000Z
X-MICROSOFT-CDO-ALLDAYEVENT:FALSE
SUMMARY:Document Shredding & Electronics Recycling
DESCRIPTION:Join us in Homewood Library's back parking lot to help the planet by shredding your documents and recycling your electronics and electronics! Gone For Good's shredding truck will be on site to destroy your sensitive documents and files. Limit of two bags or boxes of documents per person. Paper will be shredded\, and boxes returned. Protec Recycling will also be on hand to take and recycle your old computers\, household electronics\, small appliances and other items. Secure cell phone destruction for $5\, hard drive destruction on-site for $10. Flat panel TV's will not be accepted at this time.
X-ALT-DESC;FMTTYPE=text/html:<span style="color:black"><span style="font-family:calibri\,sans-serif">Join us in Homewood Library&rsquo\;s back parking lot to help the planet by shredding your documents and recycling your electronics and electronics! Gone For Good&rsquo\;s shredding truck will be on site to destroy your sensitive documents and files. Limit of two bags or boxes of documents per person. Paper will be shredded\, and boxes returned. Protec Recycling will also be on hand to take and recycle your old computers\, household electronics\, small appliances and other items. Secure cell phone destruction for $5\, hard drive destruction on-site for $10. Flat panel TV&#39\;s will not be accepted at this time.</span></span><br />\n&nbsp\;
LOCATION:Homewood Public Library
UID:e.2332.2329
SEQUENCE:3
DTSTAMP:20260420T110754Z
URL:https://business.homewoodchamber.org/events/details/document-shredding-electronics-recycling-11-08-2024-2329
END:VEVENT

END:VCALENDAR
