BEGIN:VCALENDAR
VERSION:2.0
PRODID:-//ChamberMaster//Event Calendar 2.0//EN
METHOD:PUBLISH
X-PUBLISHED-TTL:P3D
REFRESH-INTERVAL:P3D
CALSCALE:GREGORIAN
BEGIN:VEVENT
DTSTART:20241106T190000Z
DTEND:20241106T213000Z
X-MICROSOFT-CDO-ALLDAYEVENT:FALSE
SUMMARY:Ribbon Cutting for Dalton Health Direct Primary Care
DESCRIPTION:Join the Chamber as we welcome Dalton Health Direct Primary Care to the Homewood community.
X-ALT-DESC;FMTTYPE=text/html:Join the Chamber as we welcome Dalton Health Direct Primary Care to the Homewood community.
LOCATION:Dalton Health Direct Primary Care 3125 Independence Dr. Suite #100 Homewood\, AL 35209
UID:e.2332.2335
SEQUENCE:3
DTSTAMP:20260419T142657Z
URL:https://business.homewoodchamber.org/events/details/ribbon-cutting-for-dalton-health-direct-primary-care-2335
END:VEVENT

END:VCALENDAR
