BEGIN:VCALENDAR
VERSION:2.0
PRODID:-//ChamberMaster//Event Calendar 2.0//EN
METHOD:PUBLISH
X-PUBLISHED-TTL:P3D
REFRESH-INTERVAL:P3D
CALSCALE:GREGORIAN
BEGIN:VEVENT
DTSTART:20210225T150000Z
DTEND:20210225T160000Z
X-MICROSOFT-CDO-ALLDAYEVENT:FALSE
SUMMARY:Ribbon Cutting for WaveTech Therapy
DESCRIPTION:Join the Homewood Chamber of Commerce as we welcome WaveTech Therapy to the Homewood Community!
X-ALT-DESC;FMTTYPE=text/html:Join the Homewood Chamber of Commerce as we welcome WaveTech Therapy to the Homewood Community!
LOCATION:2100 Southbridge Parkeway Suite 260 Homewood\, AL 35209
UID:e.2332.1736
SEQUENCE:3
DTSTAMP:20260423T111627Z
URL:https://business.homewoodchamber.org/events/details/ribbon-cutting-for-wavetech-therapy-1736
END:VEVENT

END:VCALENDAR
